BEGIN:VCALENDAR
VERSION:2.0
PRODID:-//Sarovar Ganesha - ECPv6.8.3//NONSGML v1.0//EN
CALSCALE:GREGORIAN
METHOD:PUBLISH
X-WR-CALNAME:Sarovar Ganesha
X-ORIGINAL-URL:https://sarovarganesha.org
X-WR-CALDESC:Events for Sarovar Ganesha
REFRESH-INTERVAL;VALUE=DURATION:PT1H
X-Robots-Tag:noindex
X-PUBLISHED-TTL:PT1H
BEGIN:VTIMEZONE
TZID:Asia/Kolkata
BEGIN:STANDARD
TZOFFSETFROM:+0530
TZOFFSETTO:+0530
TZNAME:IST
DTSTART:20240101T000000
END:STANDARD
END:VTIMEZONE
BEGIN:VEVENT
DTSTART;TZID=Asia/Kolkata:20240912T090000
DTEND;TZID=Asia/Kolkata:20240912T103000
DTSTAMP:20260423T081915
CREATED:20190305T085352Z
LAST-MODIFIED:20240829T200857Z
UID:10000007-1726131600-1726137000@sarovarganesha.org
SUMMARY:Daily Morning Pooja 12 Sep 2024
DESCRIPTION:Nurturing Spiritual Beginnings: Daily Morning Pooja \nAmidst the vibrant tapestry of our celebrations\, a serene and soulful moment awaits you each day—the Daily Morning Pooja. Join us to experience the tranquility and devotion that fills the air as we gather to offer our prayers and gratitude. \nThis sacred ritual isn’t just a routine; it’s a conscious connection to the divine energy that surrounds us. With each chant\, each offering\, we set our intentions for the day ahead\, seeking blessings and inner peace. \nWhether you’re an early riser or prefer a gentle start to the morning\, the Daily Morning Pooja welcomes all. It’s a moment of reflection\, unity\, and shared spirituality that sets a positive tone for the rest of the day. \nStep into this tranquil haven as we come together to nurture our spirits and embrace the grace of the divine. The Daily Morning Pooja—a sacred pause in our bustling celebrations.
URL:https://sarovarganesha.org/event/daily-morning-pooja-12-sep-2024/
LOCATION:Ganesha Pandal\, Aparna Sarovar\, Hyderabad\, Telangana\, 500046\, India
CATEGORIES:Pooja
ATTACH;FMTTYPE=image/jpeg:https://sarovarganesha.org/wp-content/uploads/2019/03/Daily-morning-Pooja-1.jpg
END:VEVENT
BEGIN:VEVENT
DTSTART;TZID=Asia/Kolkata:20240912T180000
DTEND;TZID=Asia/Kolkata:20240912T190000
DTSTAMP:20260423T081915
CREATED:20230827T142228Z
LAST-MODIFIED:20240829T195353Z
UID:10000012-1726164000-1726167600@sarovarganesha.org
SUMMARY:Daily Evening Pooja 12 Sep 2024
DESCRIPTION:Embrace the Twilight of Reverence: Daily Evening Pooja \nAs the sun begins its descent and the day transitions into evening\, we gather in unison for the Daily Evening Pooja—an enchanting ritual that marks the close of each day’s festivities. With the clock striking 6 PM\, join us in this sacred convergence to offer our prayers\, gratitude\, and devotion to Lord Ganesha. \nThe evening pooja isn’t just a formality; it’s a symphony of spirituality that resonates within us. In the gentle twilight\, we seek to create an intimate connection with the divine energy that envelops us. As we unite in unity and mindfulness\, we embark on a journey of inner peace\, harmony\, and shared purpose. \nBe a part of this twilight rendezvous\, where moments of reflection and expressions of devotion converge. The Daily Evening Pooja isn’t just a ritual; it’s a transformative experience that ushers in a tranquil close to the day’s celebrations\, leaving you with a sense of connection\, serenity\, and divine blessings.
URL:https://sarovarganesha.org/event/daily-evening-pooja-12-sep-2024/
LOCATION:Ganesha Pandal\, Aparna Sarovar\, Hyderabad\, Telangana\, 500046\, India
CATEGORIES:Pooja
ATTACH;FMTTYPE=image/jpeg:https://sarovarganesha.org/wp-content/uploads/2023/08/Daily-evening-Pooja-3.jpg
END:VEVENT
BEGIN:VEVENT
DTSTART;TZID=Asia/Kolkata:20240912T200000
DTEND;TZID=Asia/Kolkata:20240912T203000
DTSTAMP:20260423T081915
CREATED:20240824T142037Z
LAST-MODIFIED:20240824T142037Z
UID:10000047-1726171200-1726173000@sarovarganesha.org
SUMMARY:Finale Aarti by Taal 2024
DESCRIPTION:Taal – An Experience: A Dazzling Dance Ensemble \nPrepare to be mesmerized by Taal – An Experience\, a dynamic and vibrant group of 50 passionate women and girls from Sarovar\, spanning all age groups\, who come together to create magic on stage through their cultural dance performances. Taal is more than just a dance group; it’s a symbol of dedication\, unity\, and the love of art that resonates deeply within our community. Their performances are nothing short of spectacular\, and they have rightfully earned their place as the show-stopping finale of every major celebration at Sarovar. \nThe Heartbeat of Sarovar Celebrations: When Taal takes the stage\, the entire community knows they are in for a treat. With each move synchronized to perfection and every expression filled with emotion\, these talented dancers bring the essence of our cultural heritage to life. Their performances are not merely routines; they are experiences that capture the soul\, leaving audiences spellbound and eagerly awaiting their next appearance. Their dedication is evident in every step\, every gesture\, and every beat\, as they dance not just with their feet\, but with their hearts. \nDedication That Inspires: The women of Taal pour their hearts into their art\, practicing rigorously late into the night to ensure that every performance is flawless. Their commitment to excellence is unwavering\, and it shines through in the energy and precision they bring to the stage. They sacrifice their time\, juggling their personal lives and responsibilities\, all in the pursuit of delivering a performance that will leave the audience in awe. It is this relentless passion and hard work that makes Taal a beloved and admired group within our community. \nA Show-Stopping Finale: The highlight of Taal’s year is their breathtaking performance during the Finale Aarti to bid adieu to Bappa (Lord Ganapati). This performance is the grand finale of the Ganesh festival\, a moment that encapsulates the spirit of devotion\, celebration\, and cultural pride. As the beats of the music rise\, and the dancers move in harmony\, the atmosphere becomes electric\, and the audience is transported into a world of divine rhythm and grace. Taal doesn’t just perform; they create an experience that lingers in the hearts of all who witness it. \nA Legacy of Cultural Excellence: Taal – An Experience is more than just a group; it’s a cultural legacy that continues to grow with every performance. These women and girls are the keepers of tradition\, the bearers of joy\, and the creators of memories that the Sarovar community cherishes. Their art is a gift to us all\, a reminder of the beauty of our heritage and the power of unity. When Taal performs\, it’s not just an event—it’s an unforgettable experience.
URL:https://sarovarganesha.org/event/finale-aarti-by-taal-2024/
LOCATION:Ganesha Pandal\, Aparna Sarovar\, Hyderabad\, Telangana\, 500046\, India
CATEGORIES:Pooja
ATTACH;FMTTYPE=image/jpeg:https://sarovarganesha.org/wp-content/uploads/2024/08/Finale-Aarti-by-Taal-2024.jpg
END:VEVENT
BEGIN:VEVENT
DTSTART;TZID=Asia/Kolkata:20240912T203000
DTEND;TZID=Asia/Kolkata:20240912T233000
DTSTAMP:20260423T081915
CREATED:20240824T143601Z
LAST-MODIFIED:20240824T143826Z
UID:10000048-1726173000-1726183800@sarovarganesha.org
SUMMARY:Visarjan Procession 2024
DESCRIPTION:Visarjan Procession: A Poignant Farewell to Lord Ganapati \nAs the festival reaches its touching conclusion\, the Visarjan Procession stands as a profound tribute to Lord Ganapati. This deeply emotional event marks the final chapter of our grand celebration\, where the entire community unites to bid a heartfelt adieu to our cherished deity. The streets are alive with devotion\, as the procession meanders through our vibrant neighborhood\, filled with reverent chants and joyful songs. \nAmidst the festive rhythm of drums and the melodic strains of devotional music\, devotees of all ages come together\, their faces illuminated with a blend of joy and sadness. Carrying the beautifully adorned idol of Lord Ganapati\, the procession embodies a ceremonial farewell\, reflecting both gratitude and longing. Each step taken is a tribute to the divine presence that has blessed our homes and hearts throughout the festival. \nThe final moments of the procession are imbued with a deep sense of reverence as the idol reaches the immersion site. Surrounded by a sea of heartfelt prayers and warm wishes\, the community gathers for the symbolic immersion of Lord Ganapati\, a ritual that signifies his return to his celestial abode. With tearful eyes and hopeful hearts\, the collective chant of “Ganpati Bappa Morya\, Agle Baras Tu Jaldi Aa” echoes through the evening\, expressing our gratitude and anticipation for his return.
URL:https://sarovarganesha.org/event/visarjan-procession-2024/
LOCATION:Ganesha Pandal\, Aparna Sarovar\, Hyderabad\, Telangana\, 500046\, India
CATEGORIES:Pooja
ATTACH;FMTTYPE=image/jpeg:https://sarovarganesha.org/wp-content/uploads/2024/08/Visarjan-Procession-2024.jpg
END:VEVENT
END:VCALENDAR