BEGIN:VCALENDAR
VERSION:2.0
PRODID:-//Sarovar Ganesha - ECPv6.8.3//NONSGML v1.0//EN
CALSCALE:GREGORIAN
METHOD:PUBLISH
X-ORIGINAL-URL:https://sarovarganesha.org
X-WR-CALDESC:Events for Sarovar Ganesha
REFRESH-INTERVAL;VALUE=DURATION:PT1H
X-Robots-Tag:noindex
X-PUBLISHED-TTL:PT1H
BEGIN:VTIMEZONE
TZID:Asia/Kolkata
BEGIN:STANDARD
TZOFFSETFROM:+0530
TZOFFSETTO:+0530
TZNAME:IST
DTSTART:20240101T000000
END:STANDARD
END:VTIMEZONE
BEGIN:VEVENT
DTSTART;TZID=Asia/Kolkata:20240911T090000
DTEND;TZID=Asia/Kolkata:20240911T100000
DTSTAMP:20260423T081947
CREATED:20190305T072838Z
LAST-MODIFIED:20240829T201227Z
UID:10000001-1726045200-1726048800@sarovarganesha.org
SUMMARY:Daily Morning Pooja 11 Sep 2024
DESCRIPTION:Nurturing Spiritual Beginnings: Daily Morning Pooja \nAmidst the vibrant tapestry of our celebrations\, a serene and soulful moment awaits you each day—the Daily Morning Pooja. Join us to experience the tranquility and devotion that fills the air as we gather to offer our prayers and gratitude. \nThis sacred ritual isn’t just a routine; it’s a conscious connection to the divine energy that surrounds us. With each chant\, each offering\, we set our intentions for the day ahead\, seeking blessings and inner peace. \nWhether you’re an early riser or prefer a gentle start to the morning\, the Daily Morning Pooja welcomes all. It’s a moment of reflection\, unity\, and shared spirituality that sets a positive tone for the rest of the day. \nStep into this tranquil haven as we come together to nurture our spirits and embrace the grace of the divine. The Daily Morning Pooja—a sacred pause in our bustling celebrations.
URL:https://sarovarganesha.org/event/daily-morning-pooja-11-sep-2024/
LOCATION:Ganesha Pandal\, Aparna Sarovar\, Hyderabad\, Telangana\, 500046\, India
CATEGORIES:Pooja
ATTACH;FMTTYPE=image/webp:https://sarovarganesha.org/wp-content/uploads/2023/08/daily-pooja.webp
END:VEVENT
BEGIN:VEVENT
DTSTART;TZID=Asia/Kolkata:20240911T183000
DTEND;TZID=Asia/Kolkata:20240911T190000
DTSTAMP:20260423T081947
CREATED:20190305T085531Z
LAST-MODIFIED:20240829T200705Z
UID:10000008-1726079400-1726081200@sarovarganesha.org
SUMMARY:Daily Evening Pooja 11 Sep 2024
DESCRIPTION:Embrace the Twilight of Reverence: Daily Evening Pooja \nAs the sun begins its descent and the day transitions into evening\, we gather in unison for the Daily Evening Pooja—an enchanting ritual that marks the close of each day’s festivities. With the clock striking 6 PM\, join us in this sacred convergence to offer our prayers\, gratitude\, and devotion to Lord Ganesha. \nThe evening pooja isn’t just a formality; it’s a symphony of spirituality that resonates within us. In the gentle twilight\, we seek to create an intimate connection with the divine energy that envelops us. As we unite in unity and mindfulness\, we embark on a journey of inner peace\, harmony\, and shared purpose. \nBe a part of this twilight rendezvous\, where moments of reflection and expressions of devotion converge. The Daily Evening Pooja isn’t just a ritual; it’s a transformative experience that ushers in a tranquil close to the day’s celebrations\, leaving you with a sense of connection\, serenity\, and divine blessings.
URL:https://sarovarganesha.org/event/daily-evening-pooja-11-sep-2024/
LOCATION:Ganesha Pandal\, Aparna Sarovar\, Hyderabad\, Telangana\, 500046\, India
CATEGORIES:Pooja
ATTACH;FMTTYPE=image/jpeg:https://sarovarganesha.org/wp-content/uploads/2019/03/Daily-Evening-Pooja-5.jpg
END:VEVENT
BEGIN:VEVENT
DTSTART;TZID=Asia/Kolkata:20240911T190000
DTEND;TZID=Asia/Kolkata:20240911T200000
DTSTAMP:20260423T081947
CREATED:20240824T133208Z
LAST-MODIFIED:20240824T133208Z
UID:10000043-1726081200-1726084800@sarovarganesha.org
SUMMARY:Deepotsavam 2024
DESCRIPTION:Deepotsavam: A Radiant Celebration of Devotion and Tradition \nStep into the enchanting world of Deepotsavam\, where vibrant colors and soft\, glowing lights come together in a stunning display of devotion and artistry. This beloved tradition brings the community together to create breathtaking flower rangolis throughout the day\, culminating in an awe-inspiring evening when these intricate designs are illuminated by the gentle flicker of thousands of diyas. \nA Symphony of Light and Color: Deepotsavam is more than just a visual delight; it is a profound celebration of faith and creativity. Women from the community spend the day meticulously crafting beautiful rangolis using an array of colorful flowers\, each design a unique expression of artistic skill and cultural heritage. As dusk falls\, the true magic of Deepotsavam unfolds\, as the delicate flames of countless diyas are lit\, casting a warm\, golden glow over the vibrant rangolis. This symphony of light and color creates a serene and uplifting atmosphere\, perfect for offering prayers to Lord Ganapati. \nCelebrating Unity and Spirituality: The sight of the illuminated rangolis is not just a feast for the eyes; it is a powerful symbol of unity and spiritual devotion. The act of lighting the diyas and offering prayers to Lord Ganapati brings the community together in a shared experience of reverence and joy. Each diya\, glowing softly against the intricate flower patterns\, represents a prayer\, a hope\, and a deep connection to the divine. Deepotsavam is a time to come together as a community\, to celebrate our shared traditions\, and to renew our commitment to the values of faith\, peace\, and harmony. \nA Night of Unforgettable Beauty: Join us for Deepotsavam\, an evening that promises to be both visually spectacular and spiritually enriching. As the thousands of diyas light up the night\, reflecting off the vibrant colors of the flower rangolis\, you will be immersed in an atmosphere of peace and devotion. This is more than just an event; it is a celebration of tradition\, creativity\, and the enduring light of faith that guides our lives.
URL:https://sarovarganesha.org/event/deepotsavam-2024/
LOCATION:Ganesha Pandal\, Aparna Sarovar\, Hyderabad\, Telangana\, 500046\, India
CATEGORIES:Pooja
ATTACH;FMTTYPE=image/jpeg:https://sarovarganesha.org/wp-content/uploads/2024/08/Deepotsavam-2024-1.jpg
END:VEVENT
END:VCALENDAR