BEGIN:VCALENDAR
VERSION:2.0
PRODID:-//Sarovar Ganesha - ECPv6.8.3//NONSGML v1.0//EN
CALSCALE:GREGORIAN
METHOD:PUBLISH
X-WR-CALNAME:Sarovar Ganesha
X-ORIGINAL-URL:https://sarovarganesha.org
X-WR-CALDESC:Events for Sarovar Ganesha
REFRESH-INTERVAL;VALUE=DURATION:PT1H
X-Robots-Tag:noindex
X-PUBLISHED-TTL:PT1H
BEGIN:VTIMEZONE
TZID:Asia/Kolkata
BEGIN:STANDARD
TZOFFSETFROM:+0530
TZOFFSETTO:+0530
TZNAME:IST
DTSTART:20240101T000000
END:STANDARD
END:VTIMEZONE
BEGIN:VEVENT
DTSTART;TZID=Asia/Kolkata:20240910T100000
DTEND;TZID=Asia/Kolkata:20240910T130000
DTSTAMP:20260423T081916
CREATED:20240824T135355Z
LAST-MODIFIED:20240824T135355Z
UID:10000045-1725962400-1725973200@sarovarganesha.org
SUMMARY:Kumkumarchana 2024
DESCRIPTION:Kumkumarchana: A Sacred Ritual of Devotion and Blessings \nStep into a world of divine energy and spiritual connection with Kumkumarchana\, a profound Hindu ritual where the women of our community come together to offer kumkum—the sacred red powder—to the goddesses. This beautiful tradition\, rich in symbolism and devotion\, is a time-honored practice that seeks the blessings of the divine for the protection and well-being of families. \nA Ritual of Reverence: \nKumkumarchana is more than just a ritual; it is an act of deep reverence and connection with the divine feminine energy. The kumkum\, made from turmeric and other sacred ingredients\, is believed to embody the goddess’s presence\, holding the power to purify and sanctify both mind and body. As the women offer this sacred powder to the goddesses\, they invoke blessings for their loved ones\, expressing their devotion and gratitude in a ceremony that transcends the physical world. \nA Symbol of Divine Presence: \nIn Hindu tradition\, kumkum is a powerful symbol of the goddess’s presence. By offering it during the Kumkumarchana\, participants are not only seeking divine blessings but also reinforcing their spiritual bond with the goddess. The ritual\, often performed during auspicious occasions like festivals and ceremonies\, serves as a conduit for divine grace\, filling the atmosphere with a sense of sanctity and peace. \nUnity in Devotion: \nWhat makes Kumkumarchana truly special is the collective participation of the women in our community. As they gather to perform this sacred pooja together\, the air becomes charged with a powerful\, divine energy. This communal act of worship not only strengthens their bond with the divine but also fosters a sense of unity and shared purpose among the participants. It is a moment of collective prayer\, where each individual’s intentions blend into a collective invocation of blessings and protection for all. \nA Celebration of the Divine Feminine: \nKumkumarchana is a celebration of the divine feminine\, a time to honor the goddesses and seek their guidance and protection. Whether it is performed for spiritual growth\, self-improvement\, or specific intentions\, the ritual holds deep significance for those who participate. It is a time to reflect\, to connect with the divine\, and to express gratitude for the blessings received. The ritual is as much about spiritual renewal as it is about seeking the goddess’s blessings for the future. \nExperience the Divine Together: \nJoin us for this sacred Kumkumarchana event\, where the women of our community will unite in devotion and prayer. Let the divine energy of the goddesses fill your heart and soul as you partake in this beautiful ritual. Together\, let us invoke the blessings of the divine\, ensuring the protection and well-being of our families and loved ones.
URL:https://sarovarganesha.org/event/kumkumarchana-2024/
LOCATION:Ganesha Pandal\, Aparna Sarovar\, Hyderabad\, Telangana\, 500046\, India
CATEGORIES:Pooja
ATTACH;FMTTYPE=image/jpeg:https://sarovarganesha.org/wp-content/uploads/2024/08/Kumkumarchana-2024.jpg
END:VEVENT
BEGIN:VEVENT
DTSTART;TZID=Asia/Kolkata:20240910T183000
DTEND;TZID=Asia/Kolkata:20240910T190000
DTSTAMP:20260423T081916
CREATED:20230827T142333Z
LAST-MODIFIED:20240829T195324Z
UID:10000013-1725993000-1725994800@sarovarganesha.org
SUMMARY:Daily Evening Pooja 10 Sep 2024
DESCRIPTION:Embrace the Twilight of Reverence: Daily Evening Pooja \nAs the sun begins its descent and the day transitions into evening\, we gather in unison for the Daily Evening Pooja—an enchanting ritual that marks the close of each day’s festivities. With the clock striking 6 PM\, join us in this sacred convergence to offer our prayers\, gratitude\, and devotion to Lord Ganesha. \nThe evening pooja isn’t just a formality; it’s a symphony of spirituality that resonates within us. In the gentle twilight\, we seek to create an intimate connection with the divine energy that envelops us. As we unite in unity and mindfulness\, we embark on a journey of inner peace\, harmony\, and shared purpose. \nBe a part of this twilight rendezvous\, where moments of reflection and expressions of devotion converge. The Daily Evening Pooja isn’t just a ritual; it’s a transformative experience that ushers in a tranquil close to the day’s celebrations\, leaving you with a sense of connection\, serenity\, and divine blessings.
URL:https://sarovarganesha.org/event/daily-evening-pooja-10-sep-2024/
LOCATION:Ganesha Pandal\, Aparna Sarovar\, Hyderabad\, Telangana\, 500046\, India
CATEGORIES:Pooja
ATTACH;FMTTYPE=image/jpeg:https://sarovarganesha.org/wp-content/uploads/2023/08/Daily-Evening-Pooja-4.jpg
END:VEVENT
END:VCALENDAR